BEGIN:VCALENDAR
VERSION:2.0
PRODID:-//wp-events-plugin.com//7.2.1//EN
BEGIN:VEVENT
UID:0-54@2726.bcfoe.com
DTSTART;TZID=America/Vancouver:20260607T150000
DTEND;TZID=America/Vancouver:20260607T170000
DTSTAMP:20250606T233243Z
URL:https://2726.bcfoe.com/events/bingo-2026-06-07/
SUMMARY:Bingo
DESCRIPTION:Free bingo on Sundays. Win gift cards. 
LOCATION:Abbotsford eagles\, 33868 Essendene Ave\, Abbotsford\, BC V2S 2H4\
 , Abbotsford\, BC\, V2S 2H4\, Canada
X-APPLE-STRUCTURED-LOCATION;VALUE=URI;X-ADDRESS=33868 Essendene Ave\, Abbot
 sford\, BC V2S 2H4\, Abbotsford\, BC\, V2S 2H4\, Canada;X-APPLE-RADIUS=100
 ;X-TITLE=Abbotsford eagles:geo:0,0
END:VEVENT
BEGIN:VTIMEZONE
TZID:America/Vancouver
X-LIC-LOCATION:America/Vancouver
BEGIN:DAYLIGHT
DTSTART:20260308T030000
TZOFFSETFROM:-0800
TZOFFSETTO:-0700
TZNAME:PDT
END:DAYLIGHT
END:VTIMEZONE
END:VCALENDAR